BEGIN:VCALENDAR
VERSION:2.0
PRODID:-//SACPSSA - ECPv6.15.20//NONSGML v1.0//EN
CALSCALE:GREGORIAN
METHOD:PUBLISH
X-ORIGINAL-URL:https://sacpssa.com.au
X-WR-CALDESC:Events for SACPSSA
REFRESH-INTERVAL;VALUE=DURATION:PT1H
X-Robots-Tag:noindex
X-PUBLISHED-TTL:PT1H
BEGIN:VTIMEZONE
TZID:Australia/Adelaide
BEGIN:STANDARD
TZOFFSETFROM:+1030
TZOFFSETTO:+0930
TZNAME:ACST
DTSTART:20250405T163000
END:STANDARD
BEGIN:DAYLIGHT
TZOFFSETFROM:+0930
TZOFFSETTO:+1030
TZNAME:ACDT
DTSTART:20251004T163000
END:DAYLIGHT
BEGIN:STANDARD
TZOFFSETFROM:+1030
TZOFFSETTO:+0930
TZNAME:ACST
DTSTART:20260404T163000
END:STANDARD
BEGIN:DAYLIGHT
TZOFFSETFROM:+0930
TZOFFSETTO:+1030
TZNAME:ACDT
DTSTART:20261003T163000
END:DAYLIGHT
BEGIN:STANDARD
TZOFFSETFROM:+1030
TZOFFSETTO:+0930
TZNAME:ACST
DTSTART:20270403T163000
END:STANDARD
BEGIN:DAYLIGHT
TZOFFSETFROM:+0930
TZOFFSETTO:+1030
TZNAME:ACDT
DTSTART:20271002T163000
END:DAYLIGHT
END:VTIMEZONE
BEGIN:VEVENT
DTSTART;TZID=Australia/Adelaide:20260501T100000
DTEND;TZID=Australia/Adelaide:20260501T140000
DTSTAMP:20260422T202107
CREATED:20210209T021229Z
LAST-MODIFIED:20260211T001741Z
UID:10000230-1777629600-1777644000@sacpssa.com.au
SUMMARY:Student Leadership Workshop - St Michael's\, Beverley
DESCRIPTION:
URL:https://sacpssa.com.au/event/student-leadership-workshop-st-michaels-beverley/
LOCATION:St Michael’s\, Beverley\, 78 East Ave\, Beverley\, SA\, 5009\, Australia
CATEGORIES:Professional Development
ORGANIZER;CN="Darren Elliott":MAILTO:delliott@smdps.catholic.edu.au
END:VEVENT
BEGIN:VEVENT
DTSTART;TZID=Australia/Adelaide:20260921T083000
DTEND;TZID=Australia/Adelaide:20260921T163000
DTSTAMP:20260422T202107
CREATED:20190916T045538Z
LAST-MODIFIED:20260211T002231Z
UID:10000170-1789979400-1790008200@sacpssa.com.au
SUMMARY:SACPSSA / ACHPER Primary Years H & PE Conference
DESCRIPTION:
URL:https://sacpssa.com.au/event/sacpssa-achper-primary-years-h-pe-conference/
LOCATION:The Lights Community & Sports Centre\, 244 - 270 East Parkway Corner Hampstead Road and East Pkwy\, Lightsview\, S.A.\, 5085
CATEGORIES:Achper,Professional Development
ORGANIZER;CN="Darren Elliott":MAILTO:delliott@smdps.catholic.edu.au
END:VEVENT
BEGIN:VEVENT
DTSTART;TZID=Australia/Adelaide:20261106T180000
DTEND;TZID=Australia/Adelaide:20261106T230000
DTSTAMP:20260422T202107
CREATED:20230728T023851Z
LAST-MODIFIED:20260304T002444Z
UID:10000237-1793988000-1794006000@sacpssa.com.au
SUMMARY:ACHPER SA PE WEEK DINNER
DESCRIPTION:
URL:https://sacpssa.com.au/event/achper-sa-pe-week-dinner/
LOCATION:Adelaide Pavilion\, Veale Gardens\, corner South Tce and Peacock Rd\, Adelaide\, SA\, 5000\, Australia
CATEGORIES:Achper,Professional Development
END:VEVENT
BEGIN:VEVENT
DTSTART;VALUE=DATE:20261109
DTEND;VALUE=DATE:20261114
DTSTAMP:20260422T202107
CREATED:20170111T023042Z
LAST-MODIFIED:20251110T063109Z
UID:10000122-1794182400-1794614399@sacpssa.com.au
SUMMARY:PE Week
DESCRIPTION:
URL:https://sacpssa.com.au/event/pe-week/
LOCATION:SA
CATEGORIES:Achper,Come and Try Expo,Professional Development
END:VEVENT
END:VCALENDAR