BEGIN:VCALENDAR
VERSION:2.0
PRODID:-//SACPSSA - ECPv6.15.20//NONSGML v1.0//EN
CALSCALE:GREGORIAN
METHOD:PUBLISH
X-ORIGINAL-URL:https://sacpssa.com.au
X-WR-CALDESC:Events for SACPSSA
REFRESH-INTERVAL;VALUE=DURATION:PT1H
X-Robots-Tag:noindex
X-PUBLISHED-TTL:PT1H
BEGIN:VTIMEZONE
TZID:Australia/Adelaide
BEGIN:STANDARD
TZOFFSETFROM:+1030
TZOFFSETTO:+0930
TZNAME:ACST
DTSTART:20250405T163000
END:STANDARD
BEGIN:DAYLIGHT
TZOFFSETFROM:+0930
TZOFFSETTO:+1030
TZNAME:ACDT
DTSTART:20251004T163000
END:DAYLIGHT
BEGIN:STANDARD
TZOFFSETFROM:+1030
TZOFFSETTO:+0930
TZNAME:ACST
DTSTART:20260404T163000
END:STANDARD
BEGIN:DAYLIGHT
TZOFFSETFROM:+0930
TZOFFSETTO:+1030
TZNAME:ACDT
DTSTART:20261003T163000
END:DAYLIGHT
BEGIN:STANDARD
TZOFFSETFROM:+1030
TZOFFSETTO:+0930
TZNAME:ACST
DTSTART:20270403T163000
END:STANDARD
BEGIN:DAYLIGHT
TZOFFSETFROM:+0930
TZOFFSETTO:+1030
TZNAME:ACDT
DTSTART:20271002T163000
END:DAYLIGHT
END:VTIMEZONE
BEGIN:VEVENT
DTSTART;VALUE=DATE:20260612
DTEND;VALUE=DATE:20260613
DTSTAMP:20260425T202241
CREATED:20190722T070907Z
LAST-MODIFIED:20250916T053353Z
UID:10000161-1781222400-1781308799@sacpssa.com.au
SUMMARY:Netball Carnival Nominations Due
DESCRIPTION:
URL:https://sacpssa.com.au/event/netball-carnival-nominations-due-2/
CATEGORIES:Netball
ORGANIZER;CN="Darren Elliott":MAILTO:delliott@smdps.catholic.edu.au
END:VEVENT
BEGIN:VEVENT
DTSTART;TZID=Australia/Adelaide:20260625T100000
DTEND;TZID=Australia/Adelaide:20260625T140000
DTSTAMP:20260425T202241
CREATED:20190722T065444Z
LAST-MODIFIED:20250916T055212Z
UID:10000212-1782381600-1782396000@sacpssa.com.au
SUMMARY:SACPSSA Netball Carnival Day 1
DESCRIPTION:
URL:https://sacpssa.com.au/event/sacpssa-netball-carnival-day-1-yr-3-yr-6/
LOCATION:Netball SA Stadium
CATEGORIES:Netball
ORGANIZER;CN="Darren Elliott":MAILTO:delliott@smdps.catholic.edu.au
END:VEVENT
BEGIN:VEVENT
DTSTART;TZID=Australia/Adelaide:20260626T100000
DTEND;TZID=Australia/Adelaide:20260626T140000
DTSTAMP:20260425T202241
CREATED:20190722T065600Z
LAST-MODIFIED:20250916T053431Z
UID:10000213-1782468000-1782482400@sacpssa.com.au
SUMMARY:SACPSSA Netball Carnival Day 2
DESCRIPTION:
URL:https://sacpssa.com.au/event/sacpssa-netball-carnival-day-2-yr-3-yr-6/
LOCATION:Netball SA Stadium
CATEGORIES:Netball
ORGANIZER;CN="Darren Elliott":MAILTO:delliott@smdps.catholic.edu.au
END:VEVENT
BEGIN:VEVENT
DTSTART;TZID=Australia/Adelaide:20260629T100000
DTEND;TZID=Australia/Adelaide:20260629T140000
DTSTAMP:20260425T202241
CREATED:20190722T065650Z
LAST-MODIFIED:20250916T053520Z
UID:10000155-1782727200-1782741600@sacpssa.com.au
SUMMARY:SACPSSA Netball Carnival Day 3
DESCRIPTION:
URL:https://sacpssa.com.au/event/sacpssa-netball-carnival-day-3-yr-3-yr-6/
LOCATION:Netball SA Stadium
CATEGORIES:Netball
ORGANIZER;CN="Darren Elliott":MAILTO:delliott@smdps.catholic.edu.au
END:VEVENT
BEGIN:VEVENT
DTSTART;TZID=Australia/Adelaide:20260630T100000
DTEND;TZID=Australia/Adelaide:20260630T140000
DTSTAMP:20260425T202241
CREATED:20190722T065744Z
LAST-MODIFIED:20250916T053606Z
UID:10000157-1782813600-1782828000@sacpssa.com.au
SUMMARY:SACPSSA Netball Carnival Day 4
DESCRIPTION:
URL:https://sacpssa.com.au/event/sacpssa-netball-carnival-day-4-yr-3-yr-7/
LOCATION:Netball SA Stadium
CATEGORIES:Netball
ORGANIZER;CN="Darren Elliott":MAILTO:delliott@smdps.catholic.edu.au
END:VEVENT
END:VCALENDAR